BEGIN:VCALENDAR
VERSION:2.0
PRODID:-//Castleton Hills RV Park | Castleton | Northumberland County - ECPv6.15.20//NONSGML v1.0//EN
CALSCALE:GREGORIAN
METHOD:PUBLISH
X-WR-CALNAME:Castleton Hills RV Park | Castleton | Northumberland County
X-ORIGINAL-URL:https://castletonhills.ca
X-WR-CALDESC:Events for Castleton Hills RV Park | Castleton | Northumberland County
REFRESH-INTERVAL;VALUE=DURATION:PT1H
X-Robots-Tag:noindex
X-PUBLISHED-TTL:PT1H
BEGIN:VTIMEZONE
TZID:America/Toronto
BEGIN:DAYLIGHT
TZOFFSETFROM:-0500
TZOFFSETTO:-0400
TZNAME:EDT
DTSTART:20220313T070000
END:DAYLIGHT
BEGIN:STANDARD
TZOFFSETFROM:-0400
TZOFFSETTO:-0500
TZNAME:EST
DTSTART:20221106T060000
END:STANDARD
BEGIN:DAYLIGHT
TZOFFSETFROM:-0500
TZOFFSETTO:-0400
TZNAME:EDT
DTSTART:20230312T070000
END:DAYLIGHT
BEGIN:STANDARD
TZOFFSETFROM:-0400
TZOFFSETTO:-0500
TZNAME:EST
DTSTART:20231105T060000
END:STANDARD
BEGIN:DAYLIGHT
TZOFFSETFROM:-0500
TZOFFSETTO:-0400
TZNAME:EDT
DTSTART:20240310T070000
END:DAYLIGHT
BEGIN:STANDARD
TZOFFSETFROM:-0400
TZOFFSETTO:-0500
TZNAME:EST
DTSTART:20241103T060000
END:STANDARD
BEGIN:DAYLIGHT
TZOFFSETFROM:-0500
TZOFFSETTO:-0400
TZNAME:EDT
DTSTART:20250309T070000
END:DAYLIGHT
BEGIN:STANDARD
TZOFFSETFROM:-0400
TZOFFSETTO:-0500
TZNAME:EST
DTSTART:20251102T060000
END:STANDARD
BEGIN:DAYLIGHT
TZOFFSETFROM:-0500
TZOFFSETTO:-0400
TZNAME:EDT
DTSTART:20260308T070000
END:DAYLIGHT
BEGIN:STANDARD
TZOFFSETFROM:-0400
TZOFFSETTO:-0500
TZNAME:EST
DTSTART:20261101T060000
END:STANDARD
BEGIN:DAYLIGHT
TZOFFSETFROM:-0500
TZOFFSETTO:-0400
TZNAME:EDT
DTSTART:20270314T070000
END:DAYLIGHT
BEGIN:STANDARD
TZOFFSETFROM:-0400
TZOFFSETTO:-0500
TZNAME:EST
DTSTART:20271107T060000
END:STANDARD
END:VTIMEZONE
BEGIN:VEVENT
DTSTART;TZID=America/Toronto:20260530T190000
DTEND;TZID=America/Toronto:20260530T213000
DTSTAMP:20260420T175735
CREATED:20250227T164624Z
LAST-MODIFIED:20260414T171453Z
UID:1716-1780167600-1780176600@castletonhills.ca
SUMMARY:Adult BINGO
DESCRIPTION:
URL:https://castletonhills.ca/event/adult-bingo-7/
ATTACH;FMTTYPE=image/jpeg:https://castletonhills.ca/wp-content/uploads/2023/05/bingo.jpg
END:VEVENT
BEGIN:VEVENT
DTSTART;TZID=America/Toronto:20260530T140000
DTEND;TZID=America/Toronto:20260530T170000
DTSTAMP:20260420T175735
CREATED:20250227T164547Z
LAST-MODIFIED:20260414T171418Z
UID:2159-1780149600-1780160400@castletonhills.ca
SUMMARY:Family Cornhole Tournament
DESCRIPTION:Enjoy a fun filled afternoon with the whole family! Come out and meet your fellow campers! This is a family cornhole tournament for all ages 8 yrs – 98 yrs\, and all levels of skill. Beginners welcome! Please see event board at rec hall for more details!
URL:https://castletonhills.ca/event/family-cornhole-tournament-5/
ATTACH;FMTTYPE=image/jpeg:https://castletonhills.ca/wp-content/uploads/2024/07/2-14-cornhole-redboard.jpg
END:VEVENT
BEGIN:VEVENT
DTSTART;TZID=America/Toronto:20260524T130000
DTEND;TZID=America/Toronto:20260524T150000
DTSTAMP:20260420T175735
CREATED:20250227T164917Z
LAST-MODIFIED:20260414T171341Z
UID:1712-1779627600-1779634800@castletonhills.ca
SUMMARY:Craft Social
DESCRIPTION:Calling all crafters\, this is just a social club to bring your own craft and enjoy company while you do it. Tea is provided! Artists\, knitters\, crocheters\, sewing\, scrapbooking\, everyone welcome.  This is not a kids club\, participants need to be able to bring their own project and work unsupervised.
URL:https://castletonhills.ca/event/craft-social-2/
ATTACH;FMTTYPE=image/jpeg:https://castletonhills.ca/wp-content/uploads/2024/03/crafter-social.jpeg
END:VEVENT
BEGIN:VEVENT
DTSTART;TZID=America/Toronto:20260523T190000
DTEND;TZID=America/Toronto:20260523T220000
DTSTAMP:20260420T175735
CREATED:20250227T164829Z
LAST-MODIFIED:20260414T171656Z
UID:2162-1779562800-1779573600@castletonhills.ca
SUMMARY:Lounge Night
DESCRIPTION:Join us for some Darts\, Cribbage\, Euchre\, Gin Rummy\, or even Chess\, or just to come and socialize. Ages 13 years – 103 years and beyond!
URL:https://castletonhills.ca/event/darts-8/
ATTACH;FMTTYPE=image/jpeg:https://castletonhills.ca/wp-content/uploads/2025/02/darts-chess-and-card-games-isolated-icons-for-free-time-sports-vector.jpg
END:VEVENT
BEGIN:VEVENT
DTSTART;TZID=America/Toronto:20260518T000000
DTEND;TZID=America/Toronto:20260518T235959
DTSTAMP:20260420T175735
CREATED:20250227T165353Z
LAST-MODIFIED:20260414T165751Z
UID:1202-1779062400-1779148799@castletonhills.ca
SUMMARY:Victoria Day
DESCRIPTION:
URL:https://castletonhills.ca/event/victoria-day/
END:VEVENT
BEGIN:VEVENT
DTSTART;TZID=America/Toronto:20260517T130000
DTEND;TZID=America/Toronto:20260517T150000
DTSTAMP:20260420T175735
CREATED:20250227T165634Z
LAST-MODIFIED:20260414T165646Z
UID:1703-1779022800-1779030000@castletonhills.ca
SUMMARY:Craft Social
DESCRIPTION:Calling all crafters\, this is just a social club to bring your own craft and enjoy company while you do it. Tea is provided! Artists\, knitters\, crocheters\, sewing\, scrapbooking\, everyone welcome.  This is not a kids club\, participants need to be able to bring their own project and work unsupervised.
URL:https://castletonhills.ca/event/craft-social/
ATTACH;FMTTYPE=image/jpeg:https://castletonhills.ca/wp-content/uploads/2024/03/crafter-social.jpeg
END:VEVENT
BEGIN:VEVENT
DTSTART;TZID=America/Toronto:20260517T130000
DTEND;TZID=America/Toronto:20260517T150000
DTSTAMP:20260420T175735
CREATED:20250227T164955Z
LAST-MODIFIED:20260414T165507Z
UID:2165-1779022800-1779030000@castletonhills.ca
SUMMARY:CHRVP Book Club
DESCRIPTION:Does your summer include hours lounging on the deck curled up with a good book? Do you  find yourself always looking for the next thing to read? Do you love chatting about your latest favorite characters? We do too and we want you to join us for some book gossip fun! Tea and snacks are provided. Come meet us in the library nook at the Rec Hall!
URL:https://castletonhills.ca/event/chrvp-book-club-6/
ATTACH;FMTTYPE=image/png:https://castletonhills.ca/wp-content/uploads/2025/02/bookclub-clipart.png
END:VEVENT
BEGIN:VEVENT
DTSTART;TZID=America/Toronto:20260517T110000
DTEND;TZID=America/Toronto:20260517T123000
DTSTAMP:20260420T175735
CREATED:20250227T165220Z
LAST-MODIFIED:20260414T165426Z
UID:1814-1779015600-1779021000@castletonhills.ca
SUMMARY:Family BINGO
DESCRIPTION:This is Bingo for the whole family! Adults must be accompanied by a child to play. Multiple winners on each game…and candy prizes for the wins!
URL:https://castletonhills.ca/event/family-bingo/
ATTACH;FMTTYPE=image/jpeg:https://castletonhills.ca/wp-content/uploads/2023/05/bingo.jpg
END:VEVENT
BEGIN:VEVENT
DTSTART;TZID=America/Toronto:20260516T190000
DTEND;TZID=America/Toronto:20260516T230000
DTSTAMP:20260420T175735
CREATED:20230505T131640Z
LAST-MODIFIED:20260416T130558Z
UID:1198-1778958000-1778972400@castletonhills.ca
SUMMARY:Ringing in the New Year (Season!!)  Dance & Social
DESCRIPTION:Kicking off the Summer Season 2026 with a fun night of music\, dancing\, and snacks! Come on out and meet your fellow campers!
URL:https://castletonhills.ca/event/potluck-dinner-fireworks/
ATTACH;FMTTYPE=image/jpeg:https://castletonhills.ca/wp-content/uploads/2023/05/new-years-day-clip-art-images-5.jpg
END:VEVENT
BEGIN:VEVENT
DTSTART;TZID=America/Toronto:20260516T110000
DTEND;TZID=America/Toronto:20260516T120000
DTSTAMP:20260420T175735
CREATED:20250227T170548Z
LAST-MODIFIED:20260414T165712Z
UID:1866-1778929200-1778932800@castletonhills.ca
SUMMARY:Kids Craft
DESCRIPTION:
URL:https://castletonhills.ca/event/kids-craft-11/
ATTACH;FMTTYPE=image/webp:https://castletonhills.ca/wp-content/uploads/2023/10/activities-2-Custom.webp
END:VEVENT
BEGIN:VEVENT
DTSTART;TZID=America/Toronto:20260514T150000
DTEND;TZID=America/Toronto:20260514T210000
DTSTAMP:20260420T175735
CREATED:20250227T165725Z
LAST-MODIFIED:20260414T133610Z
UID:1694-1778770800-1778792400@castletonhills.ca
SUMMARY:Overnight Camping Opens
DESCRIPTION:
URL:https://castletonhills.ca/event/overnight-camping-opens/
END:VEVENT
BEGIN:VEVENT
DTSTART;TZID=America/Toronto:20260510T120000
DTEND;TZID=America/Toronto:20260510T140000
DTSTAMP:20260420T175735
CREATED:20250227T165915Z
LAST-MODIFIED:20260414T133529Z
UID:1194-1778414400-1778421600@castletonhills.ca
SUMMARY:Mother’s Day Tea
DESCRIPTION:Tea\, snacks and treats to celebrate all our fabulous camping moms!!!
URL:https://castletonhills.ca/event/mothers-day-tea/
ATTACH;FMTTYPE=image/png:https://castletonhills.ca/wp-content/uploads/2023/05/mothers-day-tea.png
END:VEVENT
BEGIN:VEVENT
DTSTART;TZID=America/Toronto:20260508T090000
DTEND;TZID=America/Toronto:20260508T210000
DTSTAMP:20260420T175735
CREATED:20250227T165952Z
LAST-MODIFIED:20260414T130426Z
UID:1192-1778230800-1778274000@castletonhills.ca
SUMMARY:OPENING DAY for seasonals! Welcome back seasonal campers!
DESCRIPTION:
URL:https://castletonhills.ca/event/opening-day-for-seasonals-welcome-back-seasonal-campers/
ATTACH;FMTTYPE=image/webp:https://castletonhills.ca/wp-content/uploads/2023/05/welcome-back-photo.webp
END:VEVENT
BEGIN:VEVENT
DTSTART;TZID=America/Toronto:20250809T130000
DTEND;TZID=America/Toronto:20250809T150000
DTSTAMP:20260420T175735
CREATED:20250227T155445Z
LAST-MODIFIED:20250227T155446Z
UID:1266-1754744400-1754751600@castletonhills.ca
SUMMARY:The Castleton Hills Egg Hunt
DESCRIPTION:Stop by the office for a list of clues to find where all the eggs are hidden!
URL:https://castletonhills.ca/event/the-great-heron-egg-hunt/
ATTACH;FMTTYPE=image/jpeg:https://castletonhills.ca/wp-content/uploads/2023/05/egg-hunt-clipart.jpeg
END:VEVENT
BEGIN:VEVENT
DTSTART;TZID=America/Toronto:20250628T190000
DTEND;TZID=America/Toronto:20250628T230000
DTSTAMP:20260420T175735
CREATED:20250227T162946Z
LAST-MODIFIED:20250227T162959Z
UID:1226-1751137200-1751151600@castletonhills.ca
SUMMARY:Live band "Rice Lake True and Free" followed by Fireworks!
DESCRIPTION:Celebrate our nations birthday with local live band sensation “Rice Lake True and Free”! A firework display will take place at dusk. Be sure to check out this band for other dates. Rice Lake True and Free
URL:https://castletonhills.ca/event/live-band-wicklow-followed-by-fireworks/
ATTACH;FMTTYPE=image/jpeg:https://castletonhills.ca/wp-content/uploads/2023/05/rice-lake-true-and-free.jpg
END:VEVENT
BEGIN:VEVENT
DTSTART;TZID=America/Toronto:20240824T140000
DTEND;TZID=America/Toronto:20240824T170000
DTSTAMP:20260420T175735
CREATED:20230505T133402Z
LAST-MODIFIED:20240601T212334Z
UID:1250-1724508000-1724518800@castletonhills.ca
SUMMARY:H2O “Water” Day: water themed races\, wagon ride\, and more!
DESCRIPTION:
URL:https://castletonhills.ca/event/h2o-water-day-water-themed-races-wagon-ride-and-more/
ATTACH;FMTTYPE=image/jpeg:https://castletonhills.ca/wp-content/uploads/2023/05/h2o-clipart.jpeg
END:VEVENT
BEGIN:VEVENT
DTSTART;TZID=America/Toronto:20230805T080000
DTEND;TZID=America/Toronto:20230805T170000
DTSTAMP:20260420T175735
CREATED:20230505T133523Z
LAST-MODIFIED:20230505T133524Z
UID:1256-1691222400-1691254800@castletonhills.ca
SUMMARY:Family Fun Day with Black Rock Climbers: climbing wall\, bouncy castles\, jousting and more!
DESCRIPTION:
URL:https://castletonhills.ca/event/family-fun-day-with-black-rock-climbers-climbing-wall-bouncy-castles-jousting-and-more/
END:VEVENT
BEGIN:VEVENT
DTSTART;TZID=America/Toronto:20230715T080000
DTEND;TZID=America/Toronto:20230715T170000
DTSTAMP:20260420T175735
CREATED:20230505T133102Z
LAST-MODIFIED:20230505T135433Z
UID:1238-1689408000-1689440400@castletonhills.ca
SUMMARY:Race Day: fun for the whole family. Tug-of-war\, 3-legged races\, egg races\, and so much more!
DESCRIPTION:
URL:https://castletonhills.ca/event/race-day-fun-for-the-whole-family-tug-of-war-3-legged-races-egg-races-and-so-much-more/
END:VEVENT
END:VCALENDAR