BEGIN:VCALENDAR
VERSION:2.0
PRODID:-//Castleton Hills RV Park | Castleton | Northumberland County - ECPv6.15.20//NONSGML v1.0//EN
CALSCALE:GREGORIAN
METHOD:PUBLISH
X-WR-CALNAME:Castleton Hills RV Park | Castleton | Northumberland County
X-ORIGINAL-URL:https://castletonhills.ca
X-WR-CALDESC:Events for Castleton Hills RV Park | Castleton | Northumberland County
REFRESH-INTERVAL;VALUE=DURATION:PT1H
X-Robots-Tag:noindex
X-PUBLISHED-TTL:PT1H
BEGIN:VTIMEZONE
TZID:America/Toronto
BEGIN:DAYLIGHT
TZOFFSETFROM:-0500
TZOFFSETTO:-0400
TZNAME:EDT
DTSTART:20250309T070000
END:DAYLIGHT
BEGIN:STANDARD
TZOFFSETFROM:-0400
TZOFFSETTO:-0500
TZNAME:EST
DTSTART:20251102T060000
END:STANDARD
BEGIN:DAYLIGHT
TZOFFSETFROM:-0500
TZOFFSETTO:-0400
TZNAME:EDT
DTSTART:20260308T070000
END:DAYLIGHT
BEGIN:STANDARD
TZOFFSETFROM:-0400
TZOFFSETTO:-0500
TZNAME:EST
DTSTART:20261101T060000
END:STANDARD
BEGIN:DAYLIGHT
TZOFFSETFROM:-0500
TZOFFSETTO:-0400
TZNAME:EDT
DTSTART:20270314T070000
END:DAYLIGHT
BEGIN:STANDARD
TZOFFSETFROM:-0400
TZOFFSETTO:-0500
TZNAME:EST
DTSTART:20271107T060000
END:STANDARD
END:VTIMEZONE
BEGIN:VEVENT
DTSTART;TZID=America/Toronto:20261010T110000
DTEND;TZID=America/Toronto:20261010T120000
DTSTAMP:20260421T033156
CREATED:20250227T171034Z
LAST-MODIFIED:20260416T153720Z
UID:1733-1791630000-1791633600@castletonhills.ca
SUMMARY:Kids Craft
DESCRIPTION:
URL:https://castletonhills.ca/event/kids-craft-4/
ATTACH;FMTTYPE=image/webp:https://castletonhills.ca/wp-content/uploads/2023/10/activities-2-Custom.webp
END:VEVENT
BEGIN:VEVENT
DTSTART;TZID=America/Toronto:20261010T170000
DTEND;TZID=America/Toronto:20261010T183000
DTSTAMP:20260421T033156
CREATED:20250227T141929Z
LAST-MODIFIED:20260416T153928Z
UID:1298-1791651600-1791657000@castletonhills.ca
SUMMARY:Thanksgiving Potluck Dinner
DESCRIPTION:Our final gathering for the season is a Thanksgiving Potluck Dinner! Bring your favorite dish to share while we celebrate an amazing season together. While we do supply disposable plates and cutlery\, we encourage you to bring your own reusable set to help reduce waste!
URL:https://castletonhills.ca/event/thanksgiving-potluck/
ATTACH;FMTTYPE=image/webp:https://castletonhills.ca/wp-content/uploads/2023/11/Fall-pond-photo.webp
END:VEVENT
BEGIN:VEVENT
DTSTART;TZID=America/Toronto:20261010T190000
DTEND;TZID=America/Toronto:20261010T220000
DTSTAMP:20260421T033156
CREATED:20250227T142718Z
LAST-MODIFIED:20260416T153751Z
UID:2075-1791658800-1791669600@castletonhills.ca
SUMMARY:Adult BINGO
DESCRIPTION:
URL:https://castletonhills.ca/event/adult-bingo-11/
ATTACH;FMTTYPE=image/jpeg:https://castletonhills.ca/wp-content/uploads/2023/05/bingo.jpg
END:VEVENT
END:VCALENDAR