BEGIN:VCALENDAR
VERSION:2.0
PRODID:-//Castleton Hills RV Park | Castleton | Northumberland County - ECPv6.15.20//NONSGML v1.0//EN
CALSCALE:GREGORIAN
METHOD:PUBLISH
X-WR-CALNAME:Castleton Hills RV Park | Castleton | Northumberland County
X-ORIGINAL-URL:https://castletonhills.ca
X-WR-CALDESC:Events for Castleton Hills RV Park | Castleton | Northumberland County
REFRESH-INTERVAL;VALUE=DURATION:PT1H
X-Robots-Tag:noindex
X-PUBLISHED-TTL:PT1H
BEGIN:VTIMEZONE
TZID:America/Toronto
BEGIN:DAYLIGHT
TZOFFSETFROM:-0500
TZOFFSETTO:-0400
TZNAME:EDT
DTSTART:20250309T070000
END:DAYLIGHT
BEGIN:STANDARD
TZOFFSETFROM:-0400
TZOFFSETTO:-0500
TZNAME:EST
DTSTART:20251102T060000
END:STANDARD
BEGIN:DAYLIGHT
TZOFFSETFROM:-0500
TZOFFSETTO:-0400
TZNAME:EDT
DTSTART:20260308T070000
END:DAYLIGHT
BEGIN:STANDARD
TZOFFSETFROM:-0400
TZOFFSETTO:-0500
TZNAME:EST
DTSTART:20261101T060000
END:STANDARD
BEGIN:DAYLIGHT
TZOFFSETFROM:-0500
TZOFFSETTO:-0400
TZNAME:EDT
DTSTART:20270314T070000
END:DAYLIGHT
BEGIN:STANDARD
TZOFFSETFROM:-0400
TZOFFSETTO:-0500
TZNAME:EST
DTSTART:20271107T060000
END:STANDARD
END:VTIMEZONE
BEGIN:VEVENT
DTSTART;TZID=America/Toronto:20260919T110000
DTEND;TZID=America/Toronto:20260919T120000
DTSTAMP:20260421T015438
CREATED:20240601T215433Z
LAST-MODIFIED:20260416T141504Z
UID:1903-1789815600-1789819200@castletonhills.ca
SUMMARY:Halloween Kids Craft
DESCRIPTION:
URL:https://castletonhills.ca/event/halloween-kids-craft/
ATTACH;FMTTYPE=image/webp:https://castletonhills.ca/wp-content/uploads/2023/10/activities-2-Custom.webp
END:VEVENT
BEGIN:VEVENT
DTSTART;TZID=America/Toronto:20260919T140000
DTEND;TZID=America/Toronto:20260919T220000
DTSTAMP:20260421T015438
CREATED:20250227T143639Z
LAST-MODIFIED:20260416T141547Z
UID:1296-1789826400-1789855200@castletonhills.ca
SUMMARY:CHRVP Halloween! Trick-or-treating and a DJ Dance Party!
DESCRIPTION:Get your costume on and join us for trick-or-treating starting at the office at 2pm. After you have finished your spooky tour\, be sure to vote for your favorite decorated site! Keep that costume rockin’ and head over to the Rec Hall at 7pm for our Halloween Dance Party with DJ Dancin’ Machine!
URL:https://castletonhills.ca/event/chrvp-halloween-trick-or-treating-and-a-dj-dance-party/
ATTACH;FMTTYPE=image/jpeg:https://castletonhills.ca/wp-content/uploads/2023/05/Halloween-clipart-free-images.jpg
END:VEVENT
END:VCALENDAR