BEGIN:VCALENDAR
VERSION:2.0
PRODID:-//Castleton Hills RV Park | Castleton | Northumberland County - ECPv6.15.20//NONSGML v1.0//EN
CALSCALE:GREGORIAN
METHOD:PUBLISH
X-WR-CALNAME:Castleton Hills RV Park | Castleton | Northumberland County
X-ORIGINAL-URL:https://castletonhills.ca
X-WR-CALDESC:Events for Castleton Hills RV Park | Castleton | Northumberland County
REFRESH-INTERVAL;VALUE=DURATION:PT1H
X-Robots-Tag:noindex
X-PUBLISHED-TTL:PT1H
BEGIN:VTIMEZONE
TZID:America/Toronto
BEGIN:DAYLIGHT
TZOFFSETFROM:-0500
TZOFFSETTO:-0400
TZNAME:EDT
DTSTART:20250309T070000
END:DAYLIGHT
BEGIN:STANDARD
TZOFFSETFROM:-0400
TZOFFSETTO:-0500
TZNAME:EST
DTSTART:20251102T060000
END:STANDARD
BEGIN:DAYLIGHT
TZOFFSETFROM:-0500
TZOFFSETTO:-0400
TZNAME:EDT
DTSTART:20260308T070000
END:DAYLIGHT
BEGIN:STANDARD
TZOFFSETFROM:-0400
TZOFFSETTO:-0500
TZNAME:EST
DTSTART:20261101T060000
END:STANDARD
BEGIN:DAYLIGHT
TZOFFSETFROM:-0500
TZOFFSETTO:-0400
TZNAME:EDT
DTSTART:20270314T070000
END:DAYLIGHT
BEGIN:STANDARD
TZOFFSETFROM:-0400
TZOFFSETTO:-0500
TZNAME:EST
DTSTART:20271107T060000
END:STANDARD
END:VTIMEZONE
BEGIN:VEVENT
DTSTART;TZID=America/Toronto:20260906T110000
DTEND;TZID=America/Toronto:20260906T123000
DTSTAMP:20260421T002456
CREATED:20260416T141229Z
LAST-MODIFIED:20260416T141230Z
UID:2554-1788692400-1788697800@castletonhills.ca
SUMMARY:Family BINGO
DESCRIPTION:This is Bingo for the whole family! Adults must be accompanied by a child to play. Multiple winners on each game…and candy prizes for the wins!
URL:https://castletonhills.ca/event/family-bingo-3/
ATTACH;FMTTYPE=image/jpeg:https://castletonhills.ca/wp-content/uploads/2023/05/bingo.jpg
END:VEVENT
BEGIN:VEVENT
DTSTART;TZID=America/Toronto:20260906T130000
DTEND;TZID=America/Toronto:20260906T160000
DTSTAMP:20260421T002456
CREATED:20250227T154204Z
LAST-MODIFIED:20260416T141141Z
UID:1886-1788699600-1788710400@castletonhills.ca
SUMMARY:Horseshoe Tournament ***volunteers needed
DESCRIPTION:This is a fun\, non-competitive tournament. Must be over 15 years old to play. Horseshoes provided! Beginners absolutely welcome!! Prizes for 1st\, 2nd and last places!
URL:https://castletonhills.ca/event/horseshoe-tournament-volunteers-needed-4/
ATTACH;FMTTYPE=image/jpeg:https://castletonhills.ca/wp-content/uploads/2023/05/horseshoe-clipart.jpeg
END:VEVENT
END:VCALENDAR