BEGIN:VCALENDAR
VERSION:2.0
PRODID:-//Castleton Hills RV Park | Castleton | Northumberland County - ECPv6.15.20//NONSGML v1.0//EN
CALSCALE:GREGORIAN
METHOD:PUBLISH
X-WR-CALNAME:Castleton Hills RV Park | Castleton | Northumberland County
X-ORIGINAL-URL:https://castletonhills.ca
X-WR-CALDESC:Events for Castleton Hills RV Park | Castleton | Northumberland County
REFRESH-INTERVAL;VALUE=DURATION:PT1H
X-Robots-Tag:noindex
X-PUBLISHED-TTL:PT1H
BEGIN:VTIMEZONE
TZID:America/Toronto
BEGIN:DAYLIGHT
TZOFFSETFROM:-0500
TZOFFSETTO:-0400
TZNAME:EDT
DTSTART:20250309T070000
END:DAYLIGHT
BEGIN:STANDARD
TZOFFSETFROM:-0400
TZOFFSETTO:-0500
TZNAME:EST
DTSTART:20251102T060000
END:STANDARD
BEGIN:DAYLIGHT
TZOFFSETFROM:-0500
TZOFFSETTO:-0400
TZNAME:EDT
DTSTART:20260308T070000
END:DAYLIGHT
BEGIN:STANDARD
TZOFFSETFROM:-0400
TZOFFSETTO:-0500
TZNAME:EST
DTSTART:20261101T060000
END:STANDARD
BEGIN:DAYLIGHT
TZOFFSETFROM:-0500
TZOFFSETTO:-0400
TZNAME:EDT
DTSTART:20270314T070000
END:DAYLIGHT
BEGIN:STANDARD
TZOFFSETFROM:-0400
TZOFFSETTO:-0500
TZNAME:EST
DTSTART:20271107T060000
END:STANDARD
END:VTIMEZONE
BEGIN:VEVENT
DTSTART;TZID=America/Toronto:20260905T100000
DTEND;TZID=America/Toronto:20260905T150000
DTSTAMP:20260421T002456
CREATED:20250227T154618Z
LAST-MODIFIED:20260416T140800Z
UID:1286-1788602400-1788620400@castletonhills.ca
SUMMARY:Annual Makers Market
DESCRIPTION:Our annual maker’s market is a place where our camping community can show off their home based business or crafting hobby! Come on down and support your fellow campers\, always something great to find\, we have such a talented community!!!
URL:https://castletonhills.ca/event/annual-makers-market/
ATTACH;FMTTYPE=image/jpeg:https://castletonhills.ca/wp-content/uploads/2023/05/makers-market-clip-art.jpeg
END:VEVENT
BEGIN:VEVENT
DTSTART;TZID=America/Toronto:20260905T170000
DTEND;TZID=America/Toronto:20260905T190000
DTSTAMP:20260421T002456
CREATED:20250227T154532Z
LAST-MODIFIED:20260416T140938Z
UID:1880-1788627600-1788634800@castletonhills.ca
SUMMARY:Pasta & Dessert Potluck Cookoff
DESCRIPTION:Bring your favorite pasta dish or dessert to compete and share and then try something new!  While paper plates and cutlery will be available\, we do encourage campers to bring their own non-breakable plates and utensils to save on the waste!
URL:https://castletonhills.ca/event/potluck-dinner/
ATTACH;FMTTYPE=image/jpeg:https://castletonhills.ca/wp-content/uploads/2024/06/clip-art-potluck-dinner-2-scaled.jpg
END:VEVENT
BEGIN:VEVENT
DTSTART;TZID=America/Toronto:20260905T190000
DTEND;TZID=America/Toronto:20260905T200000
DTSTAMP:20260421T002456
CREATED:20250227T154448Z
LAST-MODIFIED:20260416T141108Z
UID:1288-1788634800-1788638400@castletonhills.ca
SUMMARY:Annual Silent Auction
DESCRIPTION:Our annual silent auction raffle will be drawn after dinner. Items are on display from August 22nd until September 5th. Tickets are available through the office starting on August 22nd until September 5th. All proceed go toward park activities!
URL:https://castletonhills.ca/event/potluck-dinner-followed-by-annual-silent-auction/
ATTACH;FMTTYPE=image/png:https://castletonhills.ca/wp-content/uploads/2023/05/auction-clipart.png
END:VEVENT
END:VCALENDAR