BEGIN:VCALENDAR
VERSION:2.0
PRODID:-//Castleton Hills RV Park | Castleton | Northumberland County - ECPv6.15.20//NONSGML v1.0//EN
CALSCALE:GREGORIAN
METHOD:PUBLISH
X-ORIGINAL-URL:https://castletonhills.ca
X-WR-CALDESC:Events for Castleton Hills RV Park | Castleton | Northumberland County
REFRESH-INTERVAL;VALUE=DURATION:PT1H
X-Robots-Tag:noindex
X-PUBLISHED-TTL:PT1H
BEGIN:VTIMEZONE
TZID:America/Toronto
BEGIN:DAYLIGHT
TZOFFSETFROM:-0500
TZOFFSETTO:-0400
TZNAME:EDT
DTSTART:20250309T070000
END:DAYLIGHT
BEGIN:STANDARD
TZOFFSETFROM:-0400
TZOFFSETTO:-0500
TZNAME:EST
DTSTART:20251102T060000
END:STANDARD
BEGIN:DAYLIGHT
TZOFFSETFROM:-0500
TZOFFSETTO:-0400
TZNAME:EDT
DTSTART:20260308T070000
END:DAYLIGHT
BEGIN:STANDARD
TZOFFSETFROM:-0400
TZOFFSETTO:-0500
TZNAME:EST
DTSTART:20261101T060000
END:STANDARD
BEGIN:DAYLIGHT
TZOFFSETFROM:-0500
TZOFFSETTO:-0400
TZNAME:EDT
DTSTART:20270314T070000
END:DAYLIGHT
BEGIN:STANDARD
TZOFFSETFROM:-0400
TZOFFSETTO:-0500
TZNAME:EST
DTSTART:20271107T060000
END:STANDARD
END:VTIMEZONE
BEGIN:VEVENT
DTSTART;TZID=America/Toronto:20260822T110000
DTEND;TZID=America/Toronto:20260822T120000
DTSTAMP:20260421T002624
CREATED:20250227T170859Z
LAST-MODIFIED:20260416T135939Z
UID:1759-1787396400-1787400000@castletonhills.ca
SUMMARY:Kids Craft
DESCRIPTION:
URL:https://castletonhills.ca/event/kids-craft-6/
ATTACH;FMTTYPE=image/webp:https://castletonhills.ca/wp-content/uploads/2023/10/activities-2-Custom.webp
END:VEVENT
BEGIN:VEVENT
DTSTART;TZID=America/Toronto:20260822T140000
DTEND;TZID=America/Toronto:20260822T170000
DTSTAMP:20260421T002624
CREATED:20250227T155019Z
LAST-MODIFIED:20260416T140002Z
UID:2103-1787407200-1787418000@castletonhills.ca
SUMMARY:Family Cornhole Tournament
DESCRIPTION:Enjoy a fun filled afternoon with the whole family! Come out and meet your fellow campers! This is a family cornhole tournament for all ages 8 yrs – 98 yrs\, and all levels of skill. Beginners welcome! Please see event board at rec hall for more details!
URL:https://castletonhills.ca/event/family-cornhole-tournament-2/
ATTACH;FMTTYPE=image/jpeg:https://castletonhills.ca/wp-content/uploads/2024/07/2-14-cornhole-redboard.jpg
END:VEVENT
BEGIN:VEVENT
DTSTART;TZID=America/Toronto:20260822T170000
DTEND;TZID=America/Toronto:20260822T180000
DTSTAMP:20260421T002624
CREATED:20250227T155203Z
LAST-MODIFIED:20260416T140030Z
UID:1274-1787418000-1787421600@castletonhills.ca
SUMMARY:Annual CHRVP BBQ and Corn Roast
DESCRIPTION:We are hosting our annual Corn Roast and BBQ to celebrate all our campers! Come on out and see what we are serving up this year!
URL:https://castletonhills.ca/event/annual-chrvp-bbq-and-corn-roast/
ATTACH;FMTTYPE=image/png:https://castletonhills.ca/wp-content/uploads/2023/05/corn-roast-clipart-1.png
END:VEVENT
BEGIN:VEVENT
DTSTART;TZID=America/Toronto:20260822T190000
DTEND;TZID=America/Toronto:20260822T220000
DTSTAMP:20260421T002624
CREATED:20250227T154308Z
LAST-MODIFIED:20260416T140323Z
UID:1871-1787425200-1787436000@castletonhills.ca
SUMMARY:Adult BINGO
DESCRIPTION:
URL:https://castletonhills.ca/event/adult-bingo-9/
ATTACH;FMTTYPE=image/jpeg:https://castletonhills.ca/wp-content/uploads/2023/05/bingo.jpg
END:VEVENT
END:VCALENDAR