BEGIN:VCALENDAR
VERSION:2.0
PRODID:-//Castleton Hills RV Park | Castleton | Northumberland County - ECPv6.15.20//NONSGML v1.0//EN
CALSCALE:GREGORIAN
METHOD:PUBLISH
X-WR-CALNAME:Castleton Hills RV Park | Castleton | Northumberland County
X-ORIGINAL-URL:https://castletonhills.ca
X-WR-CALDESC:Events for Castleton Hills RV Park | Castleton | Northumberland County
REFRESH-INTERVAL;VALUE=DURATION:PT1H
X-Robots-Tag:noindex
X-PUBLISHED-TTL:PT1H
BEGIN:VTIMEZONE
TZID:America/Toronto
BEGIN:DAYLIGHT
TZOFFSETFROM:-0500
TZOFFSETTO:-0400
TZNAME:EDT
DTSTART:20250309T070000
END:DAYLIGHT
BEGIN:STANDARD
TZOFFSETFROM:-0400
TZOFFSETTO:-0500
TZNAME:EST
DTSTART:20251102T060000
END:STANDARD
BEGIN:DAYLIGHT
TZOFFSETFROM:-0500
TZOFFSETTO:-0400
TZNAME:EDT
DTSTART:20260308T070000
END:DAYLIGHT
BEGIN:STANDARD
TZOFFSETFROM:-0400
TZOFFSETTO:-0500
TZNAME:EST
DTSTART:20261101T060000
END:STANDARD
BEGIN:DAYLIGHT
TZOFFSETFROM:-0500
TZOFFSETTO:-0400
TZNAME:EDT
DTSTART:20270314T070000
END:DAYLIGHT
BEGIN:STANDARD
TZOFFSETFROM:-0400
TZOFFSETTO:-0500
TZNAME:EST
DTSTART:20271107T060000
END:STANDARD
END:VTIMEZONE
BEGIN:VEVENT
DTSTART;TZID=America/Toronto:20260802T130000
DTEND;TZID=America/Toronto:20260802T150000
DTSTAMP:20260420T205308
CREATED:20250227T161225Z
LAST-MODIFIED:20260416T134641Z
UID:1806-1785675600-1785682800@castletonhills.ca
SUMMARY:Craft Social
DESCRIPTION:Calling all crafters\, this is just a social club to bring your own craft and enjoy company while you do it. Tea is provided! Artists\, knitters\, crocheters\, sewing\, scrapbooking\, everyone welcome.  This is not a kids club\, participants need to be able to bring their own project and work unsupervised.
URL:https://castletonhills.ca/event/craft-social-7/
ATTACH;FMTTYPE=image/jpeg:https://castletonhills.ca/wp-content/uploads/2024/03/crafter-social.jpeg
END:VEVENT
BEGIN:VEVENT
DTSTART;TZID=America/Toronto:20260802T130000
DTEND;TZID=America/Toronto:20260802T160000
DTSTAMP:20260420T205308
CREATED:20250227T155705Z
LAST-MODIFIED:20260416T140140Z
UID:1290-1785675600-1785686400@castletonhills.ca
SUMMARY:Horseshoe Tournament ***volunteers needed
DESCRIPTION:This is a fun\, non-competitive tournament. Must be over 18 years old to play. Horseshoes provided! Beginners absolutely welcome!! Prizes for 1st\, 2nd and last places!
URL:https://castletonhills.ca/event/horseshoe-tournament-volunteers-needed-3/
ATTACH;FMTTYPE=image/jpeg:https://castletonhills.ca/wp-content/uploads/2023/05/horseshoe-clipart.jpeg
END:VEVENT
END:VCALENDAR