BEGIN:VCALENDAR
VERSION:2.0
PRODID:-//Castleton Hills RV Park | Castleton | Northumberland County - ECPv6.15.20//NONSGML v1.0//EN
CALSCALE:GREGORIAN
METHOD:PUBLISH
X-ORIGINAL-URL:https://castletonhills.ca
X-WR-CALDESC:Events for Castleton Hills RV Park | Castleton | Northumberland County
REFRESH-INTERVAL;VALUE=DURATION:PT1H
X-Robots-Tag:noindex
X-PUBLISHED-TTL:PT1H
BEGIN:VTIMEZONE
TZID:America/Toronto
BEGIN:DAYLIGHT
TZOFFSETFROM:-0500
TZOFFSETTO:-0400
TZNAME:EDT
DTSTART:20250309T070000
END:DAYLIGHT
BEGIN:STANDARD
TZOFFSETFROM:-0400
TZOFFSETTO:-0500
TZNAME:EST
DTSTART:20251102T060000
END:STANDARD
BEGIN:DAYLIGHT
TZOFFSETFROM:-0500
TZOFFSETTO:-0400
TZNAME:EDT
DTSTART:20260308T070000
END:DAYLIGHT
BEGIN:STANDARD
TZOFFSETFROM:-0400
TZOFFSETTO:-0500
TZNAME:EST
DTSTART:20261101T060000
END:STANDARD
BEGIN:DAYLIGHT
TZOFFSETFROM:-0500
TZOFFSETTO:-0400
TZNAME:EDT
DTSTART:20270314T070000
END:DAYLIGHT
BEGIN:STANDARD
TZOFFSETFROM:-0400
TZOFFSETTO:-0500
TZNAME:EST
DTSTART:20271107T060000
END:STANDARD
END:VTIMEZONE
BEGIN:VEVENT
DTSTART;TZID=America/Toronto:20260801T110000
DTEND;TZID=America/Toronto:20260801T150000
DTSTAMP:20260420T205450
CREATED:20250227T160034Z
LAST-MODIFIED:20260416T135442Z
UID:1825-1785582000-1785596400@castletonhills.ca
SUMMARY:Castleton Hills Family Fun Day
DESCRIPTION:A family fun theme day with loads of activities\, games\, and prizes! This year we have Upper Canada Axe Throwing coming for some axe throwing fun! There will be a BBQ and Candy Stand with all proceeds going toward the event.
URL:https://castletonhills.ca/event/castleton-hills-carnival/
ATTACH;FMTTYPE=image/jpeg:https://castletonhills.ca/wp-content/uploads/2024/05/carnival-clipart.jpeg
END:VEVENT
BEGIN:VEVENT
DTSTART;TZID=America/Toronto:20260801T190000
DTEND;TZID=America/Toronto:20260801T220000
DTSTAMP:20260420T205450
CREATED:20250227T160310Z
LAST-MODIFIED:20260416T135531Z
UID:2114-1785610800-1785621600@castletonhills.ca
SUMMARY:Adult BINGO
DESCRIPTION:
URL:https://castletonhills.ca/event/adult-bingo-12/
ATTACH;FMTTYPE=image/jpeg:https://castletonhills.ca/wp-content/uploads/2023/05/bingo.jpg
END:VEVENT
END:VCALENDAR