BEGIN:VCALENDAR
VERSION:2.0
PRODID:-//Castleton Hills RV Park | Castleton | Northumberland County - ECPv6.15.20//NONSGML v1.0//EN
CALSCALE:GREGORIAN
METHOD:PUBLISH
X-WR-CALNAME:Castleton Hills RV Park | Castleton | Northumberland County
X-ORIGINAL-URL:https://castletonhills.ca
X-WR-CALDESC:Events for Castleton Hills RV Park | Castleton | Northumberland County
REFRESH-INTERVAL;VALUE=DURATION:PT1H
X-Robots-Tag:noindex
X-PUBLISHED-TTL:PT1H
BEGIN:VTIMEZONE
TZID:America/Toronto
BEGIN:DAYLIGHT
TZOFFSETFROM:-0500
TZOFFSETTO:-0400
TZNAME:EDT
DTSTART:20250309T070000
END:DAYLIGHT
BEGIN:STANDARD
TZOFFSETFROM:-0400
TZOFFSETTO:-0500
TZNAME:EST
DTSTART:20251102T060000
END:STANDARD
BEGIN:DAYLIGHT
TZOFFSETFROM:-0500
TZOFFSETTO:-0400
TZNAME:EDT
DTSTART:20260308T070000
END:DAYLIGHT
BEGIN:STANDARD
TZOFFSETFROM:-0400
TZOFFSETTO:-0500
TZNAME:EST
DTSTART:20261101T060000
END:STANDARD
BEGIN:DAYLIGHT
TZOFFSETFROM:-0500
TZOFFSETTO:-0400
TZNAME:EDT
DTSTART:20270314T070000
END:DAYLIGHT
BEGIN:STANDARD
TZOFFSETFROM:-0400
TZOFFSETTO:-0500
TZNAME:EST
DTSTART:20271107T060000
END:STANDARD
END:VTIMEZONE
BEGIN:VEVENT
DTSTART;TZID=America/Toronto:20260718T000000
DTEND;TZID=America/Toronto:20260718T235959
DTSTAMP:20260420T205225
CREATED:20250227T161006Z
LAST-MODIFIED:20260416T133856Z
UID:1242-1784332800-1784419199@castletonhills.ca
SUMMARY:Christmas in July!
DESCRIPTION:The day starts with Christmas Kids Craft at 11:00 am followed by the Children’s Christmas Party at 1:00pm. After decorating your site\, be sure to take a stroll around the grounds to see all the sites decorated! Vote for your favorite at the office! Listen for the jingle bells to mark when a special guest arrives!
URL:https://castletonhills.ca/event/christmas-in-july/
ATTACH;FMTTYPE=image/webp:https://castletonhills.ca/wp-content/uploads/2023/10/Santa-2.webp
END:VEVENT
BEGIN:VEVENT
DTSTART;TZID=America/Toronto:20260718T170000
DTEND;TZID=America/Toronto:20260718T180000
DTSTAMP:20260420T205225
CREATED:20250227T160921Z
LAST-MODIFIED:20260416T133922Z
UID:1244-1784394000-1784397600@castletonhills.ca
SUMMARY:Christmas Dinner Potluck
DESCRIPTION:Everyone is welcome to our Christmas dinner potluck! Bring your favorite dish to share and your appetite! While we do provide disposable plates and cutlery\, we encourage campers to bring their own reusable set to help reduce waste!
URL:https://castletonhills.ca/event/christmas-dinner-potluck/
ATTACH;FMTTYPE=image/jpeg:https://castletonhills.ca/wp-content/uploads/2023/05/christmas-dinner-clip-art.jpeg
END:VEVENT
BEGIN:VEVENT
DTSTART;TZID=America/Toronto:20260718T190000
DTEND;TZID=America/Toronto:20260718T220000
DTSTAMP:20260420T205225
CREATED:20250227T161301Z
LAST-MODIFIED:20260416T133949Z
UID:1230-1784401200-1784412000@castletonhills.ca
SUMMARY:Adult BINGO
DESCRIPTION:
URL:https://castletonhills.ca/event/adult-bingo-4/
ATTACH;FMTTYPE=image/jpeg:https://castletonhills.ca/wp-content/uploads/2023/05/bingo.jpg
END:VEVENT
END:VCALENDAR