BEGIN:VCALENDAR
VERSION:2.0
PRODID:-//Castleton Hills RV Park | Castleton | Northumberland County - ECPv6.15.20//NONSGML v1.0//EN
CALSCALE:GREGORIAN
METHOD:PUBLISH
X-ORIGINAL-URL:https://castletonhills.ca
X-WR-CALDESC:Events for Castleton Hills RV Park | Castleton | Northumberland County
REFRESH-INTERVAL;VALUE=DURATION:PT1H
X-Robots-Tag:noindex
X-PUBLISHED-TTL:PT1H
BEGIN:VTIMEZONE
TZID:America/Toronto
BEGIN:DAYLIGHT
TZOFFSETFROM:-0500
TZOFFSETTO:-0400
TZNAME:EDT
DTSTART:20250309T070000
END:DAYLIGHT
BEGIN:STANDARD
TZOFFSETFROM:-0400
TZOFFSETTO:-0500
TZNAME:EST
DTSTART:20251102T060000
END:STANDARD
BEGIN:DAYLIGHT
TZOFFSETFROM:-0500
TZOFFSETTO:-0400
TZNAME:EDT
DTSTART:20260308T070000
END:DAYLIGHT
BEGIN:STANDARD
TZOFFSETFROM:-0400
TZOFFSETTO:-0500
TZNAME:EST
DTSTART:20261101T060000
END:STANDARD
BEGIN:DAYLIGHT
TZOFFSETFROM:-0500
TZOFFSETTO:-0400
TZNAME:EDT
DTSTART:20270314T070000
END:DAYLIGHT
BEGIN:STANDARD
TZOFFSETFROM:-0400
TZOFFSETTO:-0500
TZNAME:EST
DTSTART:20271107T060000
END:STANDARD
END:VTIMEZONE
BEGIN:VEVENT
DTSTART;TZID=America/Toronto:20260619T090000
DTEND;TZID=America/Toronto:20260621T110000
DTSTAMP:20260420T192415
CREATED:20260414T173818Z
LAST-MODIFIED:20260414T173819Z
UID:2523-1781859600-1782039600@castletonhills.ca
SUMMARY:Father's Day Raffle
DESCRIPTION:This weekend spend time with your dad and earn tickets for a Father’s Day Raffle. Stop by the office to see all the ways you can earn tickets! All activities are open to any father – child  grouping\, not just for children! Grown up dads and their grown up kids are encouraged to play!!! Raffle will be drawn following the Father’s Day Pancake Breakfast.
URL:https://castletonhills.ca/event/fathers-day-raffle/
ATTACH;FMTTYPE=image/jpeg:https://castletonhills.ca/wp-content/uploads/2026/04/fathers-day.jpeg
END:VEVENT
BEGIN:VEVENT
DTSTART;TZID=America/Toronto:20260619T190000
DTEND;TZID=America/Toronto:20260619T210000
DTSTAMP:20260420T192415
CREATED:20240531T212412Z
LAST-MODIFIED:20260414T173102Z
UID:1801-1781895600-1781902800@castletonhills.ca
SUMMARY:Father's Day Family Game Night
DESCRIPTION:Enjoy a some dad time with a Family Game Night! Games will be supplied\, but if you have a favorite of your own be sure to bring it along! This will earn a raffle ticket!!
URL:https://castletonhills.ca/event/family-game-night/
ATTACH;FMTTYPE=image/jpeg:https://castletonhills.ca/wp-content/uploads/2024/05/family-game-night-clip-art.jpeg
END:VEVENT
END:VCALENDAR